BEGIN:VCALENDAR
VERSION:2.0
PRODID:-//Cliff Retallick - ECPv6.15.16.1//NONSGML v1.0//EN
CALSCALE:GREGORIAN
METHOD:PUBLISH
X-ORIGINAL-URL:https://www.cliffretallick.com
X-WR-CALDESC:Events for Cliff Retallick
REFRESH-INTERVAL;VALUE=DURATION:PT1H
X-Robots-Tag:noindex
X-PUBLISHED-TTL:PT1H
BEGIN:VTIMEZONE
TZID:UTC
BEGIN:STANDARD
TZOFFSETFROM:+0000
TZOFFSETTO:+0000
TZNAME:UTC
DTSTART:20150101T000000
END:STANDARD
END:VTIMEZONE
BEGIN:VEVENT
DTSTART;TZID=UTC:20160521T193000
DTEND;TZID=UTC:20160521T213000
DTSTAMP:20260421T172144
CREATED:20160510T035528Z
LAST-MODIFIED:20160510T035528Z
UID:1070-1463859000-1463866200@www.cliffretallick.com
SUMMARY:Retroformat: Wild and Woolly - Starring Douglas Fairbanks
DESCRIPTION:With Surprise Shorts! \nIn possibly his best pre-swashbuckling comedy\, Douglas Fairbanks stars as a young New Yorker who longs for the excitement of the Old West. Energetically directed by John Emerson\, with a witty script and wryly ironic intertitles by husband and wife Emerson and Anita Loos\, and cinematography by Victor Fleming.
URL:https://www.cliffretallick.com/upcomingevent/retroformat-wild-and-woolly-starring-douglas-fairbanks/
LOCATION:The Egyptian Theatre\, 6712 Hollywood Boulevard\, Los Angeles \, CA\, 90028\, United States
CATEGORIES:Up Coming Gigs
ATTACH;FMTTYPE=image/jpeg:https://www.cliffretallick.com/wp-content/uploads/2016/05/Retroformat-Wild-and-Woolly.jpg
END:VEVENT
BEGIN:VEVENT
DTSTART;TZID=UTC:20160514T130000
DTEND;TZID=UTC:20160514T150000
DTSTAMP:20260421T172144
CREATED:20160510T031807Z
LAST-MODIFIED:20160510T031838Z
UID:1063-1463230800-1463238000@www.cliffretallick.com
SUMMARY:The Silent Treatment: Sally of the Sawdust - Starring W.C. Fields
DESCRIPTION:A rare comedy from the typically austere D.W. Griffith\, Sally of the Sawdust is a delightful gem and the veritable kick off of W.C. Fields’s unmatched career. Based on the 1923 stage musical Poppy\, Sally is rife with what we now know as trademark Fields — bumbling idiocy\, juggling\, dog-kicking — all in the midst of circus antics galore. \nFields plays Prof. Eustace\, a lovably notorious juggler who becomes the unlikely guardian of Sally after her mother (rejected by her affluent parents for marrying a lowly circus performer) dies in an accident. Eustace raises Sally in the circus and passes on all of his survival tricks\, until one day their work leads them to the same town where Sally’s snooty grandparents live. \nPlot summary from Wikipedia : \nBecause she married a circus performer\, Judge Foster (Erville Alderson) casts out his only daughter. Just before her death a few years later\, she leaves her little girl Sally (Carol Dempster) in the care of her friend McGargle (W.C. Fields)\, a good-natured crook\, juggler and fakir. Sally grows up in this atmosphere and is unaware of her parentage. McGargle\, realizing his responsibility to the child\, gets a job with a carnival company playing at Great Meadows\, where the Fosters live. A real estate boom has made them wealthy. Sally is a hit with her dancing. Peyton (Alfred Lunt)\, the son of Judge Foster’s friend\, falls in love with Sally. To save him\, the Judge arranges to have McGargle and Sally arrested. McGargle escapes\, but Sally is hunted down and brought back. McGargle\, hearing of Sally’s plight\, steals a Flivver\, and after many delays\, reaches the courtroom and presents proof of Sally’s parentage. The Judge dismisses the case and his wife takes Sally in her arms\, but Peyton’s claim is stronger and she agrees to become his wife. McGargle is persuaded to remain and is found an outlet for his peculiar talents in selling real estate.
URL:https://www.cliffretallick.com/upcomingevent/the-silent-treatment-sally-of-the-sawdust-starring-w-c-fields/
LOCATION:The Silent Movie Theatre\, 611 N Fairfax Avenue\, Los Angeles \, CA\, 90036\, United States
CATEGORIES:Up Coming Gigs
ATTACH;FMTTYPE=image/jpeg:https://www.cliffretallick.com/wp-content/uploads/2016/05/image2.jpg
END:VEVENT
BEGIN:VEVENT
DTSTART;TZID=UTC:20160312T140000
DTEND;TZID=UTC:20160312T153000
DTSTAMP:20260421T172144
CREATED:20160219T192636Z
LAST-MODIFIED:20160219T192636Z
UID:1031-1457791200-1457796600@www.cliffretallick.com
SUMMARY:The Silent Treatment - Goose Woman
DESCRIPTION:A famous opera singer lost her voice when her son was born\, and has drowned her sorrows in drink. When a murder is committed near her house\, she invents a story in order to get herself back in front of the public again. However\, the story she comes up with results in her son being arrested for the murder. Staring Jack Pickford\, Constance Bennet and Louise Dresser. \nDir Clarence Brown\, 1925\, 35mm (Print Restored Courtesy of the UCLA Film & Television Archive) \, 80 min.
URL:https://www.cliffretallick.com/upcomingevent/the-silent-treatment-goose-woman/
LOCATION:The Silent Movie Theatre\, 611 N Fairfax Avenue\, Los Angeles \, CA\, 90036\, United States
CATEGORIES:Up Coming Gigs
ATTACH;FMTTYPE=image/jpeg:https://www.cliffretallick.com/wp-content/uploads/2016/02/GooseWoman.jpg
END:VEVENT
BEGIN:VEVENT
DTSTART;TZID=UTC:20160227T193000
DTEND;TZID=UTC:20160227T213000
DTSTAMP:20260421T172144
CREATED:20160219T182748Z
LAST-MODIFIED:20160219T182748Z
UID:1024-1456601400-1456608600@www.cliffretallick.com
SUMMARY:Fatty and Mabel Adrift - An evening with Fatty Arbuckle and Mabel Normand
DESCRIPTION:Our “Retroformat\,” movies on 8mm series presents “Fatty and Mabel at Keystone” in our intimate\, Spielberg Theatre. This two hour program is an evening of silent shorts on 8mm featuring two of the era’s most beloved stars\, Roscoe “Fatty” Arbuckle and Mabel Normand. The program includes a 100th anniversary screening of the beautifully made comedy classic “Fatty and Mabel Adrift” (1916\, 34 min. Dir. Roscoe Arbuckle)\, a true gem from the Keystone studios\, plus “Mabel\, Fatty and the Law” and “Mabel and Fatty Viewing the World’s Fair at San Francisco\,” both from 1915\, and much more. Curated and hosted by Tom Barnes. \n\nWith live musical accompaniment by Cliff Retallick.
URL:https://www.cliffretallick.com/upcomingevent/fatty-and-mabel-adrift-an-evening-with-fatty-arbuckle-and-mabel-normand/
LOCATION:The Egyptian Theatre\, 6712 Hollywood Boulevard\, Los Angeles \, CA\, 90028\, United States
CATEGORIES:Up Coming Gigs
ATTACH;FMTTYPE=image/jpeg:https://www.cliffretallick.com/wp-content/uploads/2016/02/fatty_and_mabel_390.jpg
END:VEVENT
BEGIN:VEVENT
DTSTART;TZID=UTC:20160221T170000
DTEND;TZID=UTC:20160221T190000
DTSTAMP:20260421T172144
CREATED:20160218T225917Z
LAST-MODIFIED:20160218T225917Z
UID:1021-1456074000-1456081200@www.cliffretallick.com
SUMMARY:Chaplin at Mutual - Chaplin Shorts
DESCRIPTION:100 years ago this month\, Charlie Chaplin became the highest paid entertainer in the world when he signed with the Mutual Film Corporation; the dozen shorts he produced for them include some of the funniest and most brilliant sequences of his career. Program includes: \n“The Immigrant” (1917\, 22 min.) The Tramp sails to America and falls in love with Edna Purviance in Chaplin’s favorite two-reel comedy. \n“The Cure” (1917\, 31 min.) Chaplin plays a drunkard who inebriates an entire health spa. \n“The Rink” (1916\, 24 min.) Chaplin proves a clumsy waiter but a graceful skater in this slapstick-filled short. \n“The Adventurer” (1917\, 31 min.) The final film under his Mutual contract stars Chaplin as an escaped convict. \n\nWith live musical accompaniment by Cliff Retallick.\n\n110 min. Screening format: DCP
URL:https://www.cliffretallick.com/upcomingevent/chaplin-at-mutual-chaplin-shorts/
LOCATION:The Aero Theatre\, 1328 Montana Avenue\, Santa Monica\, CA\, 90403\, United States
CATEGORIES:Up Coming Gigs
ATTACH;FMTTYPE=image/jpeg:https://www.cliffretallick.com/wp-content/uploads/2016/02/the_immigrant_charlie_chaplin_390.jpg
END:VEVENT
BEGIN:VEVENT
DTSTART;TZID=UTC:20160213T140000
DTEND;TZID=UTC:20160213T160000
DTSTAMP:20260421T172144
CREATED:20160104T004409Z
LAST-MODIFIED:20160212T210545Z
UID:1007-1455372000-1455379200@www.cliffretallick.com
SUMMARY:The Silent Treatment: The Patsy
DESCRIPTION:  \nFeat. Live Accompaniment from Cliff Retallick! \nThe first of three King Vidor films featuring Marion Davies\, The Patsy is an energetic and frothy comedy\, charmingly driven by its screwball leading lady. Vidor—one of the great filmmakers of the 1920s—made the film at the insistence of William Randolph Hearst\, newspaper man and media mogul\, who confidently cooked up the idea for this hit. Davies\, previously known for drama\, shines as something of a proto-teenager in an auspicious start to her collaborations with Vidor\, alongside Marie Dressler (as her overbearing mother) and Dell Henderson as her father. Don’t miss this sharp director-actress collaboration; in Marion’s words\, “a good motion picture\, according to Mr. Vidor\, should not be an imitation of the stage\, which is inevitably an interpretation of life. It should be\, on the contrary\, a copy of life\, and the director a sort of reporter who transcribes on celluloid…” \nDir. King Vidor\, 1928\, 35mm\, 78 min. \n– See more at: http://www.cinefamily.org/films/the-silent-treatment/#the-silent-treatment-the-patsy
URL:https://www.cliffretallick.com/upcomingevent/the-silent-treatment-the-patsy/
LOCATION:The Silent Movie Theatre\, 611 N Fairfax Avenue\, Los Angeles \, CA\, 90036\, United States
CATEGORIES:Up Coming Gigs
ATTACH;FMTTYPE=image/jpeg:https://www.cliffretallick.com/wp-content/uploads/2016/01/ThePatsy.jpg
END:VEVENT
END:VCALENDAR